BEGIN:VCALENDAR
VERSION:2.0
PRODID:-//wp-events-plugin.com//7.2.3.1//EN
TZID:Europe/Madrid
X-WR-TIMEZONE:Europe/Madrid
BEGIN:VEVENT
UID:762@ceeilleida.com
DTSTART;TZID=Europe/Madrid:20240521T160000
DTEND;TZID=Europe/Madrid:20240521T200000
DTSTAMP:20240208T104559Z
URL:https://ceeilleida.com/events/capsula-formativa-al-ceeilleida-que-cal-
 controlar-per-la-bona-marxa-del-negoci/
SUMMARY:Càpsula formativa  al CEEILleida: Que cal controlar per la bona ma
 rxa del negoci.
DESCRIPTION:A càrrec de Marcos Yagüe
END:VEVENT
BEGIN:VTIMEZONE
TZID:Europe/Madrid
X-LIC-LOCATION:Europe/Madrid
BEGIN:DAYLIGHT
DTSTART:20240331T030000
TZOFFSETFROM:+0100
TZOFFSETTO:+0200
TZNAME:CEST
END:DAYLIGHT
END:VTIMEZONE
END:VCALENDAR