BEGIN:VCALENDAR
VERSION:2.0
PRODID:-//wp-events-plugin.com//7.2.3.1//EN
TZID:Europe/Madrid
X-WR-TIMEZONE:Europe/Madrid
BEGIN:VEVENT
UID:678@ceeilleida.com
DTSTART;TZID=Europe/Madrid:20210921T170000
DTEND;TZID=Europe/Madrid:20210921T190000
DTSTAMP:20210823T073059Z
URL:https://ceeilleida.com/events/capsula-formativa-al-ceeilleida-personal
 -branding-2-0/
SUMMARY:Càpsula formativa al CEEILleida: Personal Branding 2.0
DESCRIPTION:A càrrec de Xavier Roca.\n\nObjectiu: Aquest curs té un caire
  eminentment pràctic. Analitzarem el concepte de personal branding i ajud
 arem a que els alumnes puguin treure profit de les eines d’anàlisi estr
 atègic de màrqueting de cara a potenciar la seva marca personal.\n\nInsc
 ripcions: ceei@ceeilleida.cat\, enviant copa DNI o NIE
CATEGORIES:Lleida
END:VEVENT
BEGIN:VTIMEZONE
TZID:Europe/Madrid
X-LIC-LOCATION:Europe/Madrid
BEGIN:DAYLIGHT
DTSTART:20210328T030000
TZOFFSETFROM:+0100
TZOFFSETTO:+0200
TZNAME:CEST
END:DAYLIGHT
END:VTIMEZONE
END:VCALENDAR