BEGIN:VCALENDAR
VERSION:2.0
PRODID:-//wp-events-plugin.com//7.2.3.1//EN
TZID:Europe/Madrid
X-WR-TIMEZONE:Europe/Madrid
BEGIN:VEVENT
UID:70@ceeilleida.com
DTSTART;TZID=Europe/Madrid:20171123T160000
DTEND;TZID=Europe/Madrid:20171123T200000
DTSTAMP:20170523T065210Z
URL:https://ceeilleida.com/events/capsula-formativa-al-ceeilleida-les-10-m
 illors-maneres-de-com-actuar-amb-el-client/
SUMMARY:CÀPSULA FORMATIVA AL CEEILLEIDA: Les 10 millors maneres de com act
 uar amb el client
DESCRIPTION:A càrrec de Jordi Mitjans. Formador-consultor-coach.\n\nObjec
 tiu: Pel client\, primer haig d’existir i després haig d’interessar. 
 Sortir-se’n de “tinc un producte\; a qui li venc?” i tenir molt pres
 ent: “tinc un client potencial\; quina necessitat té?”. Les reflexion
 s estaran amenitzades amb dinàmiques de grup per extreure-li el millor su
 c a l’experiència.\n\nMapa del lloc: https://www.google.es/maps/place/
 CEEILLEIDA/@41.599488\,0.5796573\,17z/data=!3m1!4b1!4m5!3m4!1s0x12a7202009
 75f1db:0xf168bc95a6fcc319!8m2!3d41.599488!4d0.581846
ATTACH;FMTTYPE=image/jpeg:https://ceeilleida.com/wp-content/uploads/ceei23
 11-2.jpg
CATEGORIES:Lleida
LOCATION:Aula de Formació del Ceeilleida\, Complex Caparrella\, 97\, Lleid
 a\, Lleida / Catalunya\, 25192\, Espanya
X-APPLE-STRUCTURED-LOCATION;VALUE=URI;X-ADDRESS=Complex Caparrella\, 97\, L
 leida\, Lleida / Catalunya\, 25192\, Espanya;X-APPLE-RADIUS=100;X-TITLE=Au
 la de Formació del Ceeilleida:geo:0,0
END:VEVENT
BEGIN:VTIMEZONE
TZID:Europe/Madrid
X-LIC-LOCATION:Europe/Madrid
BEGIN:STANDARD
DTSTART:20171029T020000
TZOFFSETFROM:+0200
TZOFFSETTO:+0100
TZNAME:CET
END:STANDARD
END:VTIMEZONE
END:VCALENDAR