BEGIN:VCALENDAR
VERSION:2.0
PRODID:-//wp-events-plugin.com//7.2.3.1//EN
TZID:Europe/Madrid
X-WR-TIMEZONE:Europe/Madrid
BEGIN:VEVENT
UID:682@ceeilleida.com
DTSTART;TZID=Europe/Madrid:20211220T163000
DTEND;TZID=Europe/Madrid:20211220T193000
DTSTAMP:20211117T102425Z
URL:https://ceeilleida.com/events/capsula-formativa-al-ceeilleida-estrateg
 ies-de-consecucio-dobjectius/
SUMMARY:Càpsula formativa al CEEILleida: Estratègies de consecució d'obj
 ectius
DESCRIPTION:A càrrec de Laura Ravés.\n\nObjectius: Aprendrem a identifica
 r quina és l’estratègia de cadascú per aconseguir èxits. Aprendrem a
  clarificar objectius\, a fixar un pla\, a identificar la nostra estratèg
 ia d’èxit\, a augmentar el nivell de confiança i autoestima i a obrir 
 la ment.\n\nInscripcions: ceei@ceeilleida.cat\, enviant copia DNI o NIE
CATEGORIES:Lleida
END:VEVENT
BEGIN:VTIMEZONE
TZID:Europe/Madrid
X-LIC-LOCATION:Europe/Madrid
BEGIN:STANDARD
DTSTART:20211031T020000
TZOFFSETFROM:+0200
TZOFFSETTO:+0100
TZNAME:CET
END:STANDARD
END:VTIMEZONE
END:VCALENDAR