BEGIN:VCALENDAR
VERSION:2.0
PRODID:-//wp-events-plugin.com//7.2.3.1//EN
TZID:Europe/Madrid
X-WR-TIMEZONE:Europe/Madrid
BEGIN:VEVENT
UID:42@ceeilleida.com
DTSTART;TZID=Europe/Madrid:20161213T190000
DTEND;TZID=Europe/Madrid:20161213T210000
DTSTAMP:20160922T112825Z
URL:https://ceeilleida.com/events/capsula-formativa-a-torrefarrera-wordpre
 ss-basic-la-teva-web-bloc-corporatiu-des-de-zero/
SUMMARY:Càpsula formativa a Torrefarrera. Wordpress bàsic: la teva web & 
 bloc corporatiu des de zero
DESCRIPTION:Albert Calzada\, desenvolupador web especialita en wordpress\, 
 impartirà la càpsula formativa "Wordpress bàsic: la teva web &amp\; blo
 c corporatiu des de zero". Tindrà al lloc de 19:00 a 21:00 hores al CEI T
 orrefarrera\, ubicat al Parc Empresarial. Camí de les Comes\, 5\, Torrefa
 rrera. Les inscripcions\, gratuïtes\, es poden fer a través de l'e-mail 
 eluengo@torrefarrera.cat\, o pel telèfon 973982405.
ATTACH;FMTTYPE=image/jpeg:https://ceeilleida.com/wp-content/uploads/torref
 a1312.jpg
CATEGORIES:Torrefarrera
LOCATION:CEI Torrefarrera\, Parc Empresarial. Camí de les Comes\, 5\, Torr
 efarrera\, Espanya
GEO:41.6735229;0.6086583000000019
X-APPLE-STRUCTURED-LOCATION;VALUE=URI;X-ADDRESS=Parc Empresarial. Camí de 
 les Comes\, 5\, Torrefarrera\, Espanya;X-APPLE-RADIUS=100;X-TITLE=CEI Torr
 efarrera:geo:41.6735229,0.6086583000000019
END:VEVENT
BEGIN:VTIMEZONE
TZID:Europe/Madrid
X-LIC-LOCATION:Europe/Madrid
BEGIN:STANDARD
DTSTART:20161030T020000
TZOFFSETFROM:+0200
TZOFFSETTO:+0100
TZNAME:CET
END:STANDARD
END:VTIMEZONE
END:VCALENDAR