BEGIN:VCALENDAR
VERSION:2.0
PRODID:-//wp-events-plugin.com//7.2.3.1//EN
TZID:Europe/Madrid
X-WR-TIMEZONE:Europe/Madrid
BEGIN:VEVENT
UID:8@ceeilleida.com
DTSTART;TZID=Europe/Madrid:20160926T160000
DTEND;TZID=Europe/Madrid:20160926T180000
DTSTAMP:20160920T124210Z
URL:https://ceeilleida.com/events/capsula-formativa-a-solsona-sobre-creati
 vitat-empresarial/
SUMMARY:Càpsula formativa a Solsona sobre creativitat empresarial
DESCRIPTION:David Jorba\, formador i motivador en intel·ligència emociona
 l i PNL\, ofereix la càpsula formativa "Creativitat empresarial: una mill
 or optimització dels recursos". Tindrà lloc de 16:00 a 18:00 hores al CE
 I Solsonès (Pujada del Seminari s/n de Solsona). Les inscripcions\, gratu
 ïtes\, es poden fer al telèfon 973481752 (ext. 8409 i 8413) o a l'e-mail
  telecentre@ctfc.es
ATTACH;FMTTYPE=image/jpeg:https://ceeilleida.com/wp-content/uploads/solson
 a269.jpg
CATEGORIES:Solsonès
LOCATION:CEI Solsonès\, Pujada del Seminari s/n\, Solsona\, Espanya
GEO:41.9924356;1.5172317000000248
X-APPLE-STRUCTURED-LOCATION;VALUE=URI;X-ADDRESS=Pujada del Seminari s/n\, S
 olsona\, Espanya;X-APPLE-RADIUS=100;X-TITLE=CEI Solsonès:geo:41.9924356,1
 .5172317000000248
END:VEVENT
BEGIN:VTIMEZONE
TZID:Europe/Madrid
X-LIC-LOCATION:Europe/Madrid
BEGIN:DAYLIGHT
DTSTART:20160327T030000
TZOFFSETFROM:+0100
TZOFFSETTO:+0200
TZNAME:CEST
END:DAYLIGHT
END:VTIMEZONE
END:VCALENDAR