BEGIN:VCALENDAR
VERSION:2.0
PRODID:-//wp-events-plugin.com//7.2.3.1//EN
TZID:Europe/Madrid
X-WR-TIMEZONE:Europe/Madrid
BEGIN:VEVENT
UID:39@ceeilleida.com
DTSTART;TZID=Europe/Madrid:20161124T180000
DTEND;TZID=Europe/Madrid:20161124T200000
DTSTAMP:20160922T112002Z
URL:https://ceeilleida.com/events/capsula-formativa-a-lleida-lempresa-evol
 uciona/
SUMMARY:Càpsula formativa a Lleida: L'empresa evoluciona
DESCRIPTION:Carme Fabregat\, de fabrecos.com ofereix la càpsula formativa 
 "L'empresa evoluciona". Tindrà lloc de 18:00 a 20:00 hores a l'aula de fo
 rmació del Ceeilleida (Edifici CEEI-1\, Complex de la Caparrella de Lleid
 a). Les inscripcions\, gratuïtes\, es poden fer al telèfon 97322119 o a 
 l'e-mail ceei@ceeilleda.cat
ATTACH;FMTTYPE=image/jpeg:https://ceeilleida.com/wp-content/uploads/ceei24
 11.jpg
CATEGORIES:Lleida
LOCATION:Aula de Formació del Ceeilleida.\, Edifici CEEI-1 Complex de la C
 aparrella\, 97.\, Lleida\, 25191\, Espanya
GEO:41.621742;0.660704
X-APPLE-STRUCTURED-LOCATION;VALUE=URI;X-ADDRESS=Edifici CEEI-1 Complex de l
 a Caparrella\, 97.\, Lleida\, 25191\, Espanya;X-APPLE-RADIUS=100;X-TITLE=A
 ula de Formació del Ceeilleida.:geo:41.621742,0.660704
END:VEVENT
BEGIN:VTIMEZONE
TZID:Europe/Madrid
X-LIC-LOCATION:Europe/Madrid
BEGIN:STANDARD
DTSTART:20161030T020000
TZOFFSETFROM:+0200
TZOFFSETTO:+0100
TZNAME:CET
END:STANDARD
END:VTIMEZONE
END:VCALENDAR