BEGIN:VCALENDAR
VERSION:2.0
PRODID:-//wp-events-plugin.com//7.2.3.1//EN
TZID:Europe/Madrid
X-WR-TIMEZONE:Europe/Madrid
BEGIN:VEVENT
UID:1@ceeilleida.com
DTSTART;TZID=Europe/Madrid:20160602T150000
DTEND;TZID=Europe/Madrid:20160602T170000
DTSTAMP:20160920T120545Z
URL:https://ceeilleida.com/events/capsula-formativa-a-les-borges-blanques-
 sobre-contractes-bancaris/
SUMMARY:Càpsula formativa a Les Borges Blanques sobre contractes bancaris
DESCRIPTION:L'assessora jurídica de la COELL\, Marta Montserrat\, ofereix 
 una càpsula formativa sobre contractes bancaris. Tindrà lloc de 15 a 17 
 hores en el CEIBorges (Av. Francesc Macià\, sn.\, darrera de la caserna d
 els Mossos d'Esquadra). Les inscripcions\, gratuïtes\, es poden fer al te
 lèfon 973142658 o a l'e-mail: dinamitzacio@garrigues.cat
ATTACH;FMTTYPE=image/jpeg:https://ceeilleida.com/wp-content/uploads/foto_t
 arrega.jpg
CATEGORIES:Borges Blanques
LOCATION:Cei Borges Blanques\, Av Francesc Macià s/n \, Borges Blanques\, 
 Lleida\, 25400\, Espanya
GEO:41.5146135;0.8757410000000618
X-APPLE-STRUCTURED-LOCATION;VALUE=URI;X-ADDRESS=Av Francesc Macià s/n \, B
 orges Blanques\, Lleida\, 25400\, Espanya;X-APPLE-RADIUS=100;X-TITLE=Cei B
 orges Blanques:geo:41.5146135,0.8757410000000618
END:VEVENT
BEGIN:VTIMEZONE
TZID:Europe/Madrid
X-LIC-LOCATION:Europe/Madrid
BEGIN:DAYLIGHT
DTSTART:20160327T030000
TZOFFSETFROM:+0100
TZOFFSETTO:+0200
TZNAME:CEST
END:DAYLIGHT
END:VTIMEZONE
END:VCALENDAR