BEGIN:VCALENDAR
VERSION:2.0
PRODID:-//wp-events-plugin.com//7.2.3.1//EN
TZID:Europe/Madrid
X-WR-TIMEZONE:Europe/Madrid
BEGIN:VEVENT
UID:32@ceeilleida.com
DTSTART;TZID=Europe/Madrid:20161129T180000
DTEND;TZID=Europe/Madrid:20161129T200000
DTSTAMP:20161114T082058Z
URL:https://ceeilleida.com/events/capsula-formativa-a-el-pont-de-suert-sob
 re-la-carrega-impositiva-en-la-meva-empresa/
SUMMARY:Càpsula formativa a El Pont de Suert sobre la càrrega impositiva 
 en la meva empresa
DESCRIPTION:Joan Vianya\, tècnic de la COELL\, ofereix una càpsula format
 iva sobre la càrrega impositiva en la meva empresa. Tindrà lloc de les 1
 8.00 a les 20.00 hores en la Sala de Plens del Consell Comarcal de l'Alta 
 Ribagorça (Av. Victoriano Muñoz\, 48). Les inscripcions\, gratuïtes\, e
 s poden fer a través del telèfon 973690353 o pel e-mail: mcfarre@ccar.dd
 l.net
ATTACH;FMTTYPE=image/jpeg:https://ceeilleida.com/wp-content/uploads/pontde
 suert1011.jpg
CATEGORIES:Alta Ribagorça
LOCATION:Sala de Plens del Consell Comarcal de l'Alta Ribagorça\, Av. Vict
 oriano Muñoz\, 48\, El Pont de Suert\, Espanya
GEO:42.41175;0.7405200000000605
X-APPLE-STRUCTURED-LOCATION;VALUE=URI;X-ADDRESS=Av. Victoriano Muñoz\, 48\
 , El Pont de Suert\, Espanya;X-APPLE-RADIUS=100;X-TITLE=Sala de Plens del 
 Consell Comarcal de l'Alta Ribagorça:geo:42.41175,0.7405200000000605
END:VEVENT
BEGIN:VTIMEZONE
TZID:Europe/Madrid
X-LIC-LOCATION:Europe/Madrid
BEGIN:STANDARD
DTSTART:20161030T020000
TZOFFSETFROM:+0200
TZOFFSETTO:+0100
TZNAME:CET
END:STANDARD
END:VTIMEZONE
END:VCALENDAR