BEGIN:VCALENDAR
VERSION:2.0
PRODID:-//wp-events-plugin.com//7.2.3.1//EN
TZID:Europe/Madrid
X-WR-TIMEZONE:Europe/Madrid
BEGIN:VEVENT
UID:5@ceeilleida.com
DTSTART;TZID=Europe/Madrid:20160922T190000
DTEND;TZID=Europe/Madrid:20160922T210000
DTSTAMP:20160920T121118Z
URL:https://ceeilleida.com/events/capsula-com-fer-un-estudi-de-mercat-al-c
 ei-almenar/
SUMMARY:Càpsula "Com fer un estudi de mercat" al CEI Almenar
DESCRIPTION:A càrrec de Xavier Roca\, postgrau de Lideratge ESADE\, llicen
 ciat en ADE i MBA i soci consultor a Smart Marketing. Inscripcions gratuï
 tes.
ATTACH;FMTTYPE=image/jpeg:https://ceeilleida.com/wp-content/uploads/almena
 r229.jpg
CATEGORIES:Almenar
LOCATION:CEI Almenar\, Ctra. Val d'Aran\, km. 23\,5 (sector Copalme - darre
 ra RODI)\, Almenar\, 25126\, Espanya
GEO:41.7970523;0.5680948000000399
X-APPLE-STRUCTURED-LOCATION;VALUE=URI;X-ADDRESS=Ctra. Val d'Aran\, km. 23\,
 5 (sector Copalme - darrera RODI)\, Almenar\, 25126\, Espanya;X-APPLE-RADI
 US=100;X-TITLE=CEI Almenar:geo:41.7970523,0.5680948000000399
END:VEVENT
BEGIN:VTIMEZONE
TZID:Europe/Madrid
X-LIC-LOCATION:Europe/Madrid
BEGIN:DAYLIGHT
DTSTART:20160327T030000
TZOFFSETFROM:+0100
TZOFFSETTO:+0200
TZNAME:CEST
END:DAYLIGHT
END:VTIMEZONE
END:VCALENDAR