BEGIN:VCALENDAR
VERSION:2.0
PRODID:-//wp-events-plugin.com//7.2.3.1//EN
TZID:Europe/Madrid
X-WR-TIMEZONE:Europe/Madrid
BEGIN:VEVENT
UID:187@ceeilleida.com
DTSTART;TZID=Europe/Madrid:20170406T090000
DTEND;TZID=Europe/Madrid:20170406T110000
DTSTAMP:20170403T114042Z
URL:https://ceeilleida.com/events/capsula-cei-torrefarrera-consumidor-actu
 al/
SUMMARY:Càpsula al CEI Torrefarrera: El consumidor actual
DESCRIPTION:A càrrec de Xavier Roca\, consultor
ATTACH;FMTTYPE=image/jpeg:https://ceeilleida.com/wp-content/uploads/torref
 a64.jpg
CATEGORIES:Torrefarrera
LOCATION:CEI Torrefarrera\, Parc Empresarial. Camí de les Comes\, 5\, Torr
 efarrera\, Espanya
GEO:41.6735229;0.6086583000000019
X-APPLE-STRUCTURED-LOCATION;VALUE=URI;X-ADDRESS=Parc Empresarial. Camí de 
 les Comes\, 5\, Torrefarrera\, Espanya;X-APPLE-RADIUS=100;X-TITLE=CEI Torr
 efarrera:geo:41.6735229,0.6086583000000019
END:VEVENT
BEGIN:VTIMEZONE
TZID:Europe/Madrid
X-LIC-LOCATION:Europe/Madrid
BEGIN:DAYLIGHT
DTSTART:20170326T030000
TZOFFSETFROM:+0100
TZOFFSETTO:+0200
TZNAME:CEST
END:DAYLIGHT
END:VTIMEZONE
END:VCALENDAR