BEGIN:VCALENDAR
VERSION:2.0
PRODID:-//wp-events-plugin.com//7.2.3.1//EN
TZID:Europe/Madrid
X-WR-TIMEZONE:Europe/Madrid
BEGIN:VEVENT
UID:662@ceeilleida.com
DTSTART;TZID=Europe/Madrid:20210413T163000
DTEND;TZID=Europe/Madrid:20210413T183000
DTSTAMP:20210406T083049Z
URL:https://ceeilleida.com/events/capsula-al-viver-fp-empren-google-analyt
 ics/
SUMMARY:Càpsula al Viver FP Emprèn: Google Analytics
DESCRIPTION:Adreçat a: Persones que vulguin millorar elseu perfil professi
 onal\nQuè t’aportarà aquest taller?\nGestionar i mesurar amb èxit els
  resultats de les accions de posicionament SEO i/o SEM\n\nLloc: A través 
 de la plataforma teams del Viver de la FP\nProfessorat: SteveUgas - Transf
 ormació Digital i Gestió del Canvi. Comunicació &amp\; Marketing Digita
 l. Formador. Founder. Recentment incorporat com a director de màrqueting 
 digital a Dagency\, agència de comunicació\nInscripcions gratuïtes–pl
 aces limitades (s’adjudicaran per ordre d’inscripció).\nInscriu-te ab
 ans del 9d’abril enviant un correu a: cmolinero@paeria.cat\nCàpsula: Go
 ogle Analytics\nAdreçat a: Persones que vulguin millorar el seu perfil pr
 ofessional\nQuè t’aportarà aquest taller?\nGestionar i mesurar amb èx
 it els resultats de les accions de posicionament SEO i/o SEM
CATEGORIES:FPempren
END:VEVENT
BEGIN:VTIMEZONE
TZID:Europe/Madrid
X-LIC-LOCATION:Europe/Madrid
BEGIN:DAYLIGHT
DTSTART:20210328T030000
TZOFFSETFROM:+0100
TZOFFSETTO:+0200
TZNAME:CEST
END:DAYLIGHT
END:VTIMEZONE
END:VCALENDAR