BEGIN:VCALENDAR
VERSION:2.0
PRODID:-//wp-events-plugin.com//7.2.3.1//EN
TZID:Europe/Madrid
X-WR-TIMEZONE:Europe/Madrid
BEGIN:VEVENT
UID:15@ceeilleida.com
DTSTART;TZID=Europe/Madrid:20161006T163000
DTEND;TZID=Europe/Madrid:20161006T203000
DTSTAMP:20160921T112434Z
URL:https://ceeilleida.com/events/capsula-al-cei-pallars-jussa-els-10-erro
 rs-mes-plausibles-en-la-gestio-dun-petit-negoci/
SUMMARY:Càpsula al CEI Pallars Jussà: "Els 10 errors més plausibles en l
 a gestió d'un petit negoci"
DESCRIPTION:A càrrec de Jordi Mitjans\, assessor i formador expert en come
 rç i banca.\n\nContacte: 973 652 103 o cei@pallarsjussa.cat
ATTACH;FMTTYPE=image/jpeg:https://ceeilleida.com/wp-content/uploads/tremp6
 10.jpg
CATEGORIES:Pallars Jussà
LOCATION:Centre de visitants. Epicentre.\, Passeig del Vall\, 13.\, Tremp\,
  Espanya
GEO:42.1659639;0.8953667000000678
X-APPLE-STRUCTURED-LOCATION;VALUE=URI;X-ADDRESS=Passeig del Vall\, 13.\, Tr
 emp\, Espanya;X-APPLE-RADIUS=100;X-TITLE=Centre de visitants. Epicentre.:g
 eo:42.1659639,0.8953667000000678
END:VEVENT
BEGIN:VTIMEZONE
TZID:Europe/Madrid
X-LIC-LOCATION:Europe/Madrid
BEGIN:DAYLIGHT
DTSTART:20160327T030000
TZOFFSETFROM:+0100
TZOFFSETTO:+0200
TZNAME:CEST
END:DAYLIGHT
END:VTIMEZONE
END:VCALENDAR