BEGIN:VCALENDAR
VERSION:2.0
PRODID:-//wp-events-plugin.com//7.2.3.1//EN
TZID:Europe/Madrid
X-WR-TIMEZONE:Europe/Madrid
BEGIN:VEVENT
UID:353@ceeilleida.com
DTSTART;TZID=Europe/Madrid:20181122T190000
DTEND;TZID=Europe/Madrid:20181122T210000
DTSTAMP:20180913T072608Z
URL:https://ceeilleida.com/events/capsula-al-cei-cervera-mindfullnes-per-l
 a-millora-personal-i-professional/
SUMMARY:Càpsula al CEI Cervera: Mindfulness per la millora personal i prof
 essional
DESCRIPTION:A càrrec d'Angels Revenga\, experta en Coaching per la Univers
 itat de Lleida. Deu anys d’experiència en formació.
ATTACH;FMTTYPE=image/jpeg:https://ceeilleida.com/wp-content/uploads/cerver
 a2211.jpg
CATEGORIES:Cervera
LOCATION:CEI Cervera\, Nau Industrial. Av. Segrià. 6B. \, Cervera\, Lleida
  / Catalunya\, 25200\, Espanya
X-APPLE-STRUCTURED-LOCATION;VALUE=URI;X-ADDRESS=Nau Industrial. Av. Segrià
 . 6B. \, Cervera\, Lleida / Catalunya\, 25200\, Espanya;X-APPLE-RADIUS=100
 ;X-TITLE=CEI Cervera:geo:0,0
END:VEVENT
BEGIN:VTIMEZONE
TZID:Europe/Madrid
X-LIC-LOCATION:Europe/Madrid
BEGIN:STANDARD
DTSTART:20181028T020000
TZOFFSETFROM:+0200
TZOFFSETTO:+0100
TZNAME:CET
END:STANDARD
END:VTIMEZONE
END:VCALENDAR