BEGIN:VCALENDAR
VERSION:2.0
PRODID:-//wp-events-plugin.com//7.2.3.1//EN
TZID:Europe/Madrid
X-WR-TIMEZONE:Europe/Madrid
BEGIN:VEVENT
UID:723@ceeilleida.com
DTSTART;TZID=Europe/Madrid:20220316T170000
DTEND;TZID=Europe/Madrid:20220316T190000
DTSTAMP:20220221T120928Z
URL:https://ceeilleida.com/events/capsula-al-ceeilleida-blockchain-criptom
 oneda-i-economia-del-token/
SUMMARY:Càpsula al CEEILleida: Blockchain\, criptomoneda i economia del To
 ken
DESCRIPTION:A càrrec d'Steve Ugas.
END:VEVENT
BEGIN:VTIMEZONE
TZID:Europe/Madrid
X-LIC-LOCATION:Europe/Madrid
BEGIN:STANDARD
DTSTART:20211031T020000
TZOFFSETFROM:+0200
TZOFFSETTO:+0100
TZNAME:CET
END:STANDARD
END:VTIMEZONE
END:VCALENDAR