BEGIN:VCALENDAR
VERSION:2.0
PRODID:-//wp-events-plugin.com//7.2.3.1//EN
TZID:Europe/Madrid
X-WR-TIMEZONE:Europe/Madrid
BEGIN:VEVENT
UID:72@ceeilleida.com
DTSTART;TZID=Europe/Madrid:20170223T100000
DTEND;TZID=Europe/Madrid:20170223T120000
DTSTAMP:20170215T124412Z
URL:https://ceeilleida.com/events/accio-formativa-al-cei-alt-urgell/
SUMMARY:Acció formativa al CEI Alt Urgell: De la idea empresarial a la rea
 litat
DESCRIPTION:Programa:\n\nIdea: anàlisis de la idea per comprovar si és un
 a bona proposta per a generar valor. Disseny del projecte emprenedor. Test
  per a comprovar si funciona el model de negoci
ATTACH;FMTTYPE=image/jpeg:https://ceeilleida.com/wp-content/uploads/laseu2
 32.jpg
CATEGORIES:Alt Urgell
LOCATION:CETAP\, Plaça de les Monges 1 3era planta\, La Seu d'Urgell\, 257
 00\, Espanya
GEO:42.3575784;1.455552500000067
X-APPLE-STRUCTURED-LOCATION;VALUE=URI;X-ADDRESS=Plaça de les Monges 1 3era
  planta\, La Seu d'Urgell\, 25700\, Espanya;X-APPLE-RADIUS=100;X-TITLE=CET
 AP:geo:42.3575784,1.455552500000067
END:VEVENT
BEGIN:VTIMEZONE
TZID:Europe/Madrid
X-LIC-LOCATION:Europe/Madrid
BEGIN:STANDARD
DTSTART:20161030T020000
TZOFFSETFROM:+0200
TZOFFSETTO:+0100
TZNAME:CET
END:STANDARD
END:VTIMEZONE
END:VCALENDAR